BEGIN:VCALENDAR
VERSION:2.0
PRODID:-//ChamberMaster//Event Calendar 2.0//EN
METHOD:PUBLISH
X-PUBLISHED-TTL:P3D
REFRESH-INTERVAL:P3D
CALSCALE:GREGORIAN
BEGIN:VEVENT
DTSTART:20230506T220000Z
DTEND:20230507T000000Z
X-MICROSOFT-CDO-ALLDAYEVENT:FALSE
SUMMARY:An Epicurean Adventure
DESCRIPTION:Join us on our beautiful Terrace & Concert Green for an afternoon of award-winning wines paired with sweet and savory bites! We'll explore new vintages\, small lot releases and barrel tasting with Winemaker Greg Morthole including the inaugural release of our unique Grenache/Syrah red blend. Stroll among food stations from our friends at Out to Lunch Fine Catering\, featuring small plates complemented by a perfectly paired pour. Along with the savory\, enjoy the sweet with artisanal chocolates from Rainy Day Chocolates & Sonoma Chocolatiers. Live music from Sonoma County's favorite one-man band\, Matt Bolton. Reserve your seat now for this one-of-a-kind adventure!
X-ALT-DESC;FMTTYPE=text/html:Join us on our beautiful Terrace &amp\; Concert Green for an afternoon of award-winning wines paired with sweet and savory bites! We&rsquo\;ll explore new vintages\, small lot releases and barrel tasting with Winemaker Greg Morthole&mdash\;including the inaugural release of our unique Grenache/Syrah red blend. Stroll among food stations from our friends at Out to Lunch Fine Catering\, featuring small plates complemented by a perfectly paired pour. Along with the savory\, enjoy the sweet&mdash\;with artisanal chocolates from Rainy Day Chocolates &amp\; Sonoma Chocolatiers. Live music from Sonoma County&rsquo\;s favorite one-man band\, Matt Bolton. Reserve your seat now for this one-of-a-kind adventure!
LOCATION:11455 Old Redwood Highway Healdsburg\, CA 95448
UID:e.3588.564
SEQUENCE:3
DTSTAMP:20260422T010035Z
URL:https://windsorchamber-gzcms.preview.gochambermaster.com/events/details/an-epicurean-adventure-564
END:VEVENT

END:VCALENDAR
