BEGIN:VCALENDAR
VERSION:2.0
PRODID:-//ChamberMaster//Event Calendar 2.0//EN
METHOD:PUBLISH
X-PUBLISHED-TTL:P3D
REFRESH-INTERVAL:P3D
CALSCALE:GREGORIAN
BEGIN:VEVENT
DTSTART;VALUE=DATE:20231001
DTEND;VALUE=DATE:20231002
TRANSP:TRANSPARENT
X-MICROSOFT-CDO-ALLDAYEVENT:TRUE
SUMMARY:Bubbles & Bronzing - Celebrating 1 Year in Windsor
DESCRIPTION:Get ready to toast to an incredible year at "Bubbles & Bronzing" on October 1st! Join us from 10 am to 2 pm at the Sculpted Bunny - Body Contouring Spa in Windsor.\n\nSip on bubbly\, savor a delicious brunch\, shop to your heart's content\, and get your glow on with spray tanning. But that's not all   immerse yourself in a world of pampering by exploring our body contouring and skin rejuvenating services. And here's the exciting part: we've got special raffles and promotions lined up exclusively for you!\n\nIt's been an amazing journey\, and we want to celebrate with you in style. See you there for a day of fun\, beauty\, and good vibes as we raise a glass to one fantastic year at Sculpted Bunny!
X-ALT-DESC;FMTTYPE=text/html:<p>Get ready to toast to an incredible year at &quot\;Bubbles &amp\; Bronzing&quot\; on October 1st! Join us from 10 am to 2 pm at the Sculpted Bunny - Body Contouring Spa in Windsor.</p>\n\n<p>Sip on bubbly\, savor a delicious brunch\, shop to your heart&#39\;s content\, and get your glow on with spray tanning. But that&#39\;s not all &ndash\; immerse yourself in a world of pampering by exploring our body contouring and skin rejuvenating services. And here&#39\;s the exciting part: we&#39\;ve got special raffles and promotions lined up exclusively for you!</p>\n\n<p>It&#39\;s been an amazing journey\, and we want to celebrate with you in style. See you there for a day of fun\, beauty\, and good vibes as we raise a glass to one fantastic year at Sculpted Bunny!</p>\n
LOCATION:Located at Sculpted Bunny 6119 Old Redwood Hwy\, Santa Rosa ca 95403
UID:e.3588.632
SEQUENCE:3
DTSTAMP:20260421T060333Z
URL:https://windsorchamber-gzcms.preview.gochambermaster.com/events/details/bubbles-bronzing-celebrating-1-year-in-windsor-632
END:VEVENT

END:VCALENDAR
