BEGIN:VCALENDAR
VERSION:2.0
PRODID:-//ChamberMaster//Event Calendar 2.0//EN
METHOD:PUBLISH
X-PUBLISHED-TTL:P3D
REFRESH-INTERVAL:P3D
CALSCALE:GREGORIAN
BEGIN:VEVENT
DTSTART:20220215T193000Z
DTEND:20220215T210000Z
X-MICROSOFT-CDO-ALLDAYEVENT:FALSE
SUMMARY:Chamber Luncheon for February 2022
DESCRIPTION:"In Conversation With" Healdsburg Hospital\, Providence\n\nGina Fabiano\, Ernesto Olivares and Montse Archilla\n\nmoderated by Ed Sheffield of Sutter Santa Rosa\n\n\n\nWe are learning a lot of good stuff at Windsor Chamber's interactive luncheons. Come join us! Learn more about the medical services and community investments available to residents with Healdsburg Hospital\, Providence. Entertaining and intelligent Moderator Ed Sheffield will keep things lively.\n\n\n\nOur Member of the Month is Nation's Finest\, which supports America's military veterans and their families with a comprehensive approach to housing\, health and employment that helps them achieve self-sufficiency and reach full potential.\n\n\n\nFor a little more information about our Featured Guests:\n\n\n\nGina Fabiano is a communication manager in Northern California supports marketing and communications efforts internally and externally. Her role expands to the entire NorCal region (Humboldt to Napa)\, and she is the communications lead for Healdsburg and Petaluma Valley hospitals.  \n\n  \n\nMontse Archila is the mission leader for Healdsburg and Petaluma Valley hospitals and Physician Enterprise in Sonoma County. Her role expands from her previous work with the community focusing on health equity\; diversity\, equity and inclusion\; and access to care for non-native speakers. \n\n \n\nErnesto Olivares is the Northern California Regional Government and Public Affairs Manager for Providence health system. His primary role is to help deepen community connections for the ministry by coordinating advocacy and engagement opportunities at the local level throughout Providence's Northern California Region in several key areas.
X-ALT-DESC;FMTTYPE=text/html:<span style="font-family:arial\;"><strong><span style="font-size:12pt\;">&quot\;In Conversation With&quot\; Healdsburg Hospital\, Providence</span></strong><br />\n<strong><span style="font-size:12pt\;">Gina Fabiano\, Ernesto Olivares and Montse Archilla</span></strong><br />\n<strong><span style="font-size:10.5pt\;">moderated by Ed Sheffield of Sutter Santa Rosa</span></strong><br />\n<br />\n<span style="font-size:14px\;">We are learning a lot of good stuff at Windsor Chamber&rsquo\;s interactive luncheons. Come join us! Learn more about the medical services and community investments available to residents with Healdsburg Hospital\, Providence. Entertaining and intelligent Moderator Ed Sheffield will keep things lively.<br />\n<br />\n<span style="color:#222222\;">Our Member of the Month is Nation&rsquo\;s Finest\, which supports America&rsquo\;s military veterans and their families with a comprehensive approach to housing\, health and employment that helps them achieve self-sufficiency and reach full potential.<br />\n<br />\nFor a little more information about our Featured Guests:</span><br />\n<br />\n<span style="color:black\;">Gina Fabiano is a communication manager in Northern California supports marketing and communications efforts internally and externally. Her role expands to the entire NorCal region (Humboldt to Napa)\, and she is the communications lead for Healdsburg and Petaluma Valley hospitals. &nbsp\;</span><br />\n&nbsp\;&nbsp\;<br />\n<span style="color:black\;">Montse Archila is the mission leader for Healdsburg and Petaluma Valley hospitals and Physician Enterprise in Sonoma County. Her role expands from her previous work with the community focusing on health equity\; diversity\, equity and inclusion\; and access to care for non-native speakers.&nbsp\;</span><br />\n&nbsp\;<br />\n<span style="color:black\;">Ernesto Olivares is the Northern California Regional Government and Public Affairs Manager for Providence health system. His primary role is to help deepen community connections for the ministry by coordinating advocacy and engagement opportunities at the local level throughout Providence&#39\;s Northern California Region in several key areas.</span></span></span><br />\n&nbsp\;
LOCATION:Outside dining at Lupe's Diner 710 McClelland Dr\, Windsor\, CA 95492
UID:e.3588.246
SEQUENCE:3
DTSTAMP:20260424T113130Z
URL:https://windsorchamber-gzcms.preview.gochambermaster.com/events/details/chamber-luncheon-for-february-2022-246
END:VEVENT

END:VCALENDAR
