BEGIN:VCALENDAR
VERSION:2.0
PRODID:-//ChamberMaster//Event Calendar 2.0//EN
METHOD:PUBLISH
X-PUBLISHED-TTL:P3D
REFRESH-INTERVAL:P3D
CALSCALE:GREGORIAN
BEGIN:VEVENT
DTSTART:20201228T180000Z
DTEND:20210116T000000Z
X-MICROSOFT-CDO-ALLDAYEVENT:FALSE
SUMMARY:Dash Howard's Pet Food & Pet Supply Drive
DESCRIPTION:The Windsor Chamber is a happy to host Dash Howard's pet food and pet supply drive for the Humane Society of Sonoma County. Bring your donations to the Chamber office M-F 10-4pm through January 15th (closed NYE and New Years Day).\n\n\n\nTHE HUMANE SOCIETY OF SONOMA COUNTY'S PET PANTRY provides emergency pet food and supplies to pet owners in our community so they can continue caring for their pets despite economic hardship. Please help by donating pet food and supplies! MOST NEEDED ITEMS:   Dry & Wet Cat Food (any brand)*   Dry & Wet Dog Food (any brand)   Flea Treatment: Advantage Frontline Seresto   Leashes & Collars (all sizes)   Harnesses (all sizes)   Large & XL dog clothes *dry food can be previously opened
X-ALT-DESC;FMTTYPE=text/html:The Windsor Chamber is a happy to host Dash Howard&#39\;s pet food and pet supply drive for the Humane Society of Sonoma County. Bring your donations to the Chamber office M-F 10-4pm through January 15th (closed NYE and New Years Day).<br />\n<br />\nTHE HUMANE SOCIETY OF SONOMA COUNTY&rsquo\;S PET PANTRY provides emergency pet food and supplies to pet owners in our community so they can continue caring for their pets despite economic hardship. Please help by donating pet food and supplies! MOST NEEDED ITEMS: &bull\; Dry &amp\; Wet Cat Food (any brand)* &bull\; Dry &amp\; Wet Dog Food (any brand) &bull\; Flea Treatment: Advantage Frontline Seresto &bull\; Leashes &amp\; Collars (all sizes) &bull\; Harnesses (all sizes) &bull\; Large &amp\; XL dog clothes *dry food can be previously opened
LOCATION:Windsor Chamber of Commerce\, 9001 Windsor Road\, Windsor in the yellow depot building across from the Publican.
UID:e.3588.34
SEQUENCE:3
DTSTAMP:20260425T130834Z
URL:https://windsorchamber-gzcms.preview.gochambermaster.com/events/details/dash-howard-s-pet-food-pet-supply-drive-34
END:VEVENT

END:VCALENDAR
