BEGIN:VCALENDAR
VERSION:2.0
PRODID:-//ChamberMaster//Event Calendar 2.0//EN
METHOD:PUBLISH
X-PUBLISHED-TTL:P3D
REFRESH-INTERVAL:P3D
CALSCALE:GREGORIAN
BEGIN:VEVENT
DTSTART:20230321T200000Z
DTEND:20230321T230000Z
X-MICROSOFT-CDO-ALLDAYEVENT:FALSE
SUMMARY:Francis Ford Coppola Winery Hiring Event!
DESCRIPTION:We're Hiring! Come join us at our Hiring Event on March 21st\, from 1-4pm at Francis Ford Coppola Winery\, in Geyserville! Voted one of the Best Places to Work in the North Bay multiple years in a row\, Francis Ford Coppola Winery is looking for creative\, dynamic\, and passionate people to join our team! Don't miss your opportunity to join our growing teams! Full Time and Seasonal positions are now open in Winemaking\, Hospitality\, Restaurants\, Tasting Room\, Guest Services\, Lifeguards\, Events\, Housekeeping\, and Production.21st\, from 1-4pm at Francis Ford Coppola Winery\, in Geyserville!
X-ALT-DESC;FMTTYPE=text/html:We&rsquo\;re Hiring! Come join us at our Hiring Event on March 21st\, from 1-4pm at Francis Ford Coppola Winery\, in Geyserville! Voted one of the Best Places to Work in the North Bay multiple years in a row\, Francis Ford Coppola Winery is looking for creative\, dynamic\, and passionate people to join our team! Don&rsquo\;t miss your opportunity to join our growing teams! Full Time and Seasonal positions are now open in Winemaking\, Hospitality\, Restaurants\, Tasting Room\, Guest Services\, Lifeguards\, Events\, Housekeeping\, and Production.21st\, from 1-4pm at Francis Ford Coppola Winery\, in Geyserville!
LOCATION:Francis Ford Coppola Winery
UID:e.3588.543
SEQUENCE:3
DTSTAMP:20260422T214739Z
URL:https://windsorchamber-gzcms.preview.gochambermaster.com/events/details/francis-ford-coppola-winery-hiring-event-543
END:VEVENT

END:VCALENDAR
