BEGIN:VCALENDAR
VERSION:2.0
PRODID:-//ChamberMaster//Event Calendar 2.0//EN
METHOD:PUBLISH
X-PUBLISHED-TTL:P3D
REFRESH-INTERVAL:P3D
CALSCALE:GREGORIAN
BEGIN:VEVENT
DTSTART:20230305T000000Z
DTEND:20230305T050000Z
X-MICROSOFT-CDO-ALLDAYEVENT:FALSE
SUMMARY:Game Night - Windsor Odd Fellows
DESCRIPTION:Windsor Odd Fellows is hosting the space for the community to come play games. Come get out of the cold and the rain and have some fun! We have a pool table\, corn hole\, a really challenging puzzle\, lots of board games. This is a BYOB event. Please bring your own beverages with an ice chest and snacks. Food to share is great - we are planning on spaghetti\, salad and bread for Mar 4 - bring something to compliment the menu.
X-ALT-DESC;FMTTYPE=text/html:Windsor Odd Fellows is hosting the space for the community to come play games. Come get out of the cold and the rain and have some fun! We have a pool table\, corn hole\, a really challenging puzzle\, lots of board games. This is a BYOB event. Please bring your own beverages with an ice chest and snacks. Food to share is great - we are planning on spaghetti\, salad and bread for Mar 4 - bring something to compliment the menu.
LOCATION:Odd Fellows Hall (above Pohley's Market) 337 Windsor River Rd Windsor\, CA 95492
UID:e.3588.533
SEQUENCE:3
DTSTAMP:20260422T061445Z
URL:https://windsorchamber-gzcms.preview.gochambermaster.com/events/details/game-night-windsor-odd-fellows-03-04-2023-533
END:VEVENT

END:VCALENDAR
