BEGIN:VCALENDAR
VERSION:2.0
PRODID:-//ChamberMaster//Event Calendar 2.0//EN
METHOD:PUBLISH
X-PUBLISHED-TTL:P3D
REFRESH-INTERVAL:P3D
CALSCALE:GREGORIAN
BEGIN:VEVENT
DTSTART:20241013T223000Z
DTEND:20241014T003000Z
X-MICROSOFT-CDO-ALLDAYEVENT:FALSE
SUMMARY:Green Halloween Party
DESCRIPTION:The Town of Windsor and Sonoma County Resource Recovery invite you to join us for a family-friendly Zero Waste Halloween Party! \n\n- Bring gently used Halloween costumes\, fall decorations\, and plants for a festive community exchange\n\n- Get creative at the repurposed crafts corner\n\n- Meet local community organizations and learn about their sustainable practices\n\n- Enjoy snacks\, wrapper-less candy\, and fun drinks! "BYOC" (Bring Your Own Cup)\n\n\n\nThis event is part of the North Bay Zero Waste Week. Check out the Green Halloween Party and many more here: https://northbayzerowasteweek.org/event/green-halloween-party/ _________________________________________________________________________________ INTERCAMBIO DE VESTUARIOS\, MESA DE ARTESAN AS SOSTENIBLES\, INTERCAMBIO DE PLANTAS - \n\n\n\n- Traiga disfraces de Halloween\, adornos de oto o y plantas usados para un intercambio festivo comunitario.\n\n- D  rienda suelta a su creatividad en el rinc n de manualidades reutilizadas \n\n- Conoce a las organizaciones locales de la comunidad y aprende sobre sus pr cticas sostenibles\n\n- Disfruta de aperitivos\, caramelos sin envoltorio y bebidas divertidas. "BYOC" (Trae tu propio vaso) \n\n\n\n*voluntarios hispano hablantes estar n a su disposici n para ayudarle*
X-ALT-DESC;FMTTYPE=text/html:<span style="font-size:16px"><span style="color:#008000"><strong>The Town of Windsor and Sonoma County Resource Recovery invite you to join us for a family-friendly Zero Waste Halloween Party! </strong></span></span><br />\n- Bring gently used <span style="color:#FF8C00"><strong>Halloween costumes\, fall decorations\, and plants</strong> </span>for a festive community exchange<br />\n- Get creative at the <span style="color:#A52A2A"><strong>repurposed crafts corner</strong></span><br />\n- Meet local <strong><span style="color:#DAA520">community organizations</span></strong> and learn about their sustainable practices<br />\n- Enjoy snacks\, wrapper-less candy\, and fun drinks! <strong>&ldquo\;BYOC&rdquo\; (Bring Your Own Cup)</strong><br />\n<br />\nThis event is part of the North Bay Zero Waste Week. Check out the Green Halloween Party and many more here: <a href="https://northbayzerowasteweek.org/event/green-halloween-party/" rel="noopener noreferrer" target="_blank">https://northbayzerowasteweek.org/event/green-halloween-party/</a> _________________________________________________________________________________ <span style="font-size:16px"><strong><span style="color:#008000">INTERCAMBIO DE VESTUARIOS\, MESA DE ARTESAN&Iacute\;AS SOSTENIBLES\, INTERCAMBIO DE PLANTAS - </span></strong></span><br />\n<br />\n- Traiga<strong><span style="color:#FF8C00"> disfraces de</span></strong> <strong><span style="color:#FF8C00">Halloween\, adornos de oto&ntilde\;o y plantas</span></strong> usados para un intercambio festivo comunitario.<br />\n- D&eacute\; rienda suelta a su creatividad en el <strong><span style="color:#A52A2A">rinc&oacute\;n de manualidades reutilizadas </span></strong><br />\n- Conoce a las <strong><span style="color:#DAA520">organizaciones locales de la comunidad </span></strong>y aprende sobre sus pr&aacute\;cticas sostenibles<br />\n- Disfruta de aperitivos\, caramelos sin envoltorio y bebidas divertidas. <strong>&quot\;BYOC&quot\; (Trae tu propio vaso) </strong><br />\n<br />\n*voluntarios hispano hablantes estar&aacute\;n a su disposici&oacute\;n para ayudarle*
LOCATION:Huerta Gymnasium 9291 Old Redwood Highway\, Bldg. 200 Windsor\, CA 95492
UID:e.3588.1508
SEQUENCE:3
DTSTAMP:20260420T013339Z
URL:https://windsorchamber-gzcms.preview.gochambermaster.com/events/details/green-halloween-party-1508
END:VEVENT

END:VCALENDAR
