BEGIN:VCALENDAR
VERSION:2.0
PRODID:-//ChamberMaster//Event Calendar 2.0//EN
METHOD:PUBLISH
X-PUBLISHED-TTL:P3D
REFRESH-INTERVAL:P3D
CALSCALE:GREGORIAN
BEGIN:VEVENT
DTSTART:20230909T023000Z
DTEND:20230909T050000Z
X-MICROSOFT-CDO-ALLDAYEVENT:FALSE
SUMMARY:Home
DESCRIPTION:A Raven world premiere-Written by Nathaniel Roberts-Directed by Ron Smith.\n\nWhen a small group of homeless people\, living under a freeway overpass and attempting to maintain their dilapidated community as best they can\, are confronted by a neighboring store owner who wants them "cleared out\," the ensuing drama exposes the struggle\, humanity\, and dignity of all involved. Buy season tickets to our exciting 2023-2024 lineup of plays: Seven productions including three fantastic musicals. You'll save $50 on buying tickets to individual performances while maintaining flexibility and control in choosing the dates and times you want\, all with a single code that will be sent in your confirmation email. Visit our season ticket page now to make your purchase! *Doors open 30 minutes before showtime. COVID vaccinations and high-quality face masks are recommended but no longer required to see performances at the Raven. See the homepage for information on measures the Raven has implemented to improve air filtration and ventilation inside the theater.
X-ALT-DESC;FMTTYPE=text/html:A Raven world premiere-Written by Nathaniel Roberts-Directed by Ron Smith.<br />\nWhen a small group of homeless people\, living under a freeway overpass and attempting to maintain their dilapidated community as best they can\, are confronted by a neighboring store owner who wants them &ldquo\;cleared out\,&rdquo\; the ensuing drama exposes the struggle\, humanity\, and dignity of all involved. Buy season tickets to our exciting 2023-2024 lineup of plays:&nbsp\;Seven&nbsp\;productions including three fantastic musicals. You&#39\;ll save $50 on buying tickets to individual performances while maintaining&nbsp\;flexibility and control in choosing the dates and times you want\, all with a single code that will be sent&nbsp\;in your confirmation email.&nbsp\;Visit our season ticket page now to make your purchase! *Doors open 30 minutes before showtime.&nbsp\;COVID vaccinations and high-quality face masks are recommended but&nbsp\;no longer required to see performances at the Raven.&nbsp\;See the homepage&nbsp\;for information on measures the Raven has implemented to improve air filtration and ventilation inside the theater.
LOCATION:The Raven Performing Arts Theater 115 North Street Healdsburg\, CA 95448
UID:e.3588.595
SEQUENCE:3
DTSTAMP:20260421T103549Z
URL:https://windsorchamber-gzcms.preview.gochambermaster.com/events/details/home-595
END:VEVENT

END:VCALENDAR
