BEGIN:VCALENDAR
VERSION:2.0
PRODID:-//ChamberMaster//Event Calendar 2.0//EN
METHOD:PUBLISH
X-PUBLISHED-TTL:P3D
REFRESH-INTERVAL:P3D
CALSCALE:GREGORIAN
BEGIN:VEVENT
DTSTART:20240501T000000Z
DTEND:20240501T020000Z
X-MICROSOFT-CDO-ALLDAYEVENT:FALSE
SUMMARY:Multi-Chamber Mixer April 30 2024
DESCRIPTION:Join us for an exciting multi-chamber mixer! This event offers a unique opportunity to network with fellow community members while indulging in delectable cuisine and beverages. Don't miss out on the chance to connect with professionals from various chambers and industries in a vibrant and welcoming atmosphere. Mark your calendars and join us for an evening of networking\, delicious food\, and great company.
X-ALT-DESC;FMTTYPE=text/html:Join us for an exciting multi-chamber mixer! This event offers a unique opportunity to network with fellow community members while indulging in delectable cuisine and beverages. Don&#39\;t miss out on the chance to connect with professionals from various chambers and industries in a vibrant and welcoming atmosphere. Mark your calendars and join us for an evening of networking\, delicious food\, and great company.
LOCATION:Hampton Inn & Suites 8937 Brooks Rd. S. Windsor\, CA 95492
UID:e.3588.1281
SEQUENCE:3
DTSTAMP:20260420T135502Z
URL:https://windsorchamber-gzcms.preview.gochambermaster.com/events/details/multi-chamber-mixer-april-30-2024-1281
END:VEVENT

END:VCALENDAR
