BEGIN:VCALENDAR
VERSION:2.0
PRODID:-//ChamberMaster//Event Calendar 2.0//EN
METHOD:PUBLISH
X-PUBLISHED-TTL:P3D
REFRESH-INTERVAL:P3D
CALSCALE:GREGORIAN
BEGIN:VEVENT
DTSTART:20230513T200000Z
DTEND:20230513T230000Z
X-MICROSOFT-CDO-ALLDAYEVENT:FALSE
SUMMARY:Roth BBQ\, Bottles & Bocce
DESCRIPTION:Join Roth Estate for their annual BBQ\, Bottles & Bocce tournament! Get your team together and play in the bocce tournament\, or kick back and enjoy the festivities. Each ticket includes upscale BBQ fare crafted by their estate culinary team\, new release wines\, music\, outdoor games\, and more.
X-ALT-DESC;FMTTYPE=text/html:Join Roth Estate for their annual BBQ\, Bottles &amp\; Bocce tournament! Get your team together and play in the bocce tournament\, or kick back and enjoy the festivities. Each ticket includes upscale BBQ fare crafted by their estate culinary team\, new release wines\, music\, outdoor games\, and more.
LOCATION:Roth Estate Winery 10309 Chalk Hill Road Healdsburg\, CA
UID:e.3588.566
SEQUENCE:3
DTSTAMP:20260421T212006Z
URL:https://windsorchamber-gzcms.preview.gochambermaster.com/events/details/roth-bbq-bottles-bocce-566
END:VEVENT

END:VCALENDAR
