BEGIN:VCALENDAR
VERSION:2.0
PRODID:-//ChamberMaster//Event Calendar 2.0//EN
METHOD:PUBLISH
X-PUBLISHED-TTL:P3D
REFRESH-INTERVAL:P3D
CALSCALE:GREGORIAN
BEGIN:VEVENT
DTSTART:20210401T003000Z
DTEND:20210401T013000Z
X-MICROSOFT-CDO-ALLDAYEVENT:FALSE
SUMMARY:Sonoma County Chamber of Commerce Blitz
DESCRIPTION:Join us for the\n\nSonoma County Chambers of Commerce Blitz!\n\nDo you miss the 1-on-1 conversations at networking events? Did these 1-on-1 conversations lead to sales?\n\nWe have a way to bring that back in this virtual world!\n\nJoin us for a Blitz\n\n& experience multiple 1-on-1 conversations!\n\nWe compare it to 'speed dating'.\n\nWednesday\, March 31 ~ 5:30pm to 6:30pm Virtual Event\n\nClick here to sign-up: https://blitzr.com/event/3249/1252\n\nClick here for tips on How to Blitz: https://blitzr.com/howtoblitz Open to everyone & Free to attend Questions? Contact RP Chamber (707) 584-1415
X-ALT-DESC;FMTTYPE=text/html:<div dir="auto" style="font-family: &quot\;Segoe UI Historic&quot\;\, &quot\;Segoe UI&quot\;\, Helvetica\, Arial\, sans-serif\; color: rgb(5\, 5\, 5)\; font-size: 15px\; white-space: pre-wrap\; background-color: rgb(255\, 255\, 255)\;">Join us for the</div>\n\n<div dir="auto" style="font-family: &quot\;Segoe UI Historic&quot\;\, &quot\;Segoe UI&quot\;\, Helvetica\, Arial\, sans-serif\; color: rgb(5\, 5\, 5)\; font-size: 15px\; white-space: pre-wrap\; background-color: rgb(255\, 255\, 255)\;">Sonoma County Chambers of Commerce Blitz!</div>\n\n<div dir="auto" style="font-family: &quot\;Segoe UI Historic&quot\;\, &quot\;Segoe UI&quot\;\, Helvetica\, Arial\, sans-serif\; color: rgb(5\, 5\, 5)\; font-size: 15px\; white-space: pre-wrap\; background-color: rgb(255\, 255\, 255)\;">Do you miss the 1-on-1 conversations at networking events? Did these 1-on-1 conversations lead to sales?</div>\n\n<div dir="auto" style="font-family: &quot\;Segoe UI Historic&quot\;\, &quot\;Segoe UI&quot\;\, Helvetica\, Arial\, sans-serif\; color: rgb(5\, 5\, 5)\; font-size: 15px\; white-space: pre-wrap\; background-color: rgb(255\, 255\, 255)\;">We have a way to bring that back in this virtual world!</div>\n\n<div dir="auto" style="font-family: &quot\;Segoe UI Historic&quot\;\, &quot\;Segoe UI&quot\;\, Helvetica\, Arial\, sans-serif\; color: rgb(5\, 5\, 5)\; font-size: 15px\; white-space: pre-wrap\; background-color: rgb(255\, 255\, 255)\;">Join us for a Blitz</div>\n\n<div dir="auto" style="font-family: &quot\;Segoe UI Historic&quot\;\, &quot\;Segoe UI&quot\;\, Helvetica\, Arial\, sans-serif\; color: rgb(5\, 5\, 5)\; font-size: 15px\; white-space: pre-wrap\; background-color: rgb(255\, 255\, 255)\;">&amp\; experience multiple 1-on-1 conversations!</div>\n\n<div dir="auto" style="font-family: &quot\;Segoe UI Historic&quot\;\, &quot\;Segoe UI&quot\;\, Helvetica\, Arial\, sans-serif\; color: rgb(5\, 5\, 5)\; font-size: 15px\; white-space: pre-wrap\; background-color: rgb(255\, 255\, 255)\;">We compare it to &lsquo\;speed dating&rsquo\;.</div>\n\n<div dir="auto" style="font-family: &quot\;Segoe UI Historic&quot\;\, &quot\;Segoe UI&quot\;\, Helvetica\, Arial\, sans-serif\; color: rgb(5\, 5\, 5)\; font-size: 15px\; white-space: pre-wrap\; background-color: rgb(255\, 255\, 255)\;">Wednesday\, March 31 ~ 5:30pm to 6:30pm Virtual Event</div>\n\n<div dir="auto" style="font-family: &quot\;Segoe UI Historic&quot\;\, &quot\;Segoe UI&quot\;\, Helvetica\, Arial\, sans-serif\; color: rgb(5\, 5\, 5)\; font-size: 15px\; white-space: pre-wrap\; background-color: rgb(255\, 255\, 255)\;">Click here to sign-up: <span style="font-family: inherit\;"><a class="oajrlxb2 g5ia77u1 qu0x051f esr5mh6w e9989ue4 r7d6kgcz rq0escxv nhd2j8a9 nc684nl6 p7hjln8o kvgmc6g5 cxmmr5t8 oygrvhab hcukyx3x jb3vyjys rz4wbd8a qt6c0cv9 a8nywdso i1ao9s8h esuyzwwr f1sip0of lzcic4wl py34i1dx gpro0wi8" href="https://l.facebook.com/l.php?u=https%3A%2F%2Fblitzr.com%2Fevent%2F3249%2F1252%3Ffbclid%3DIwAR0amswPyr2tQFGJQyoAWDb1t_Rnmy1aekecg4Ex1yOUytlhYo46DgEYCuU&amp\;h=AT2CVGguoKVX7mUcRQO7G-P0hHoUj4q1EEVZK8ZqZ1x8i457sbvvjVo1HEwGAVItBMl9jFyZ7iuNY7yQPFSIjzH0_dYSp_0l3g7K3twBEnQUjQFLcMDFdPRLeDqdunoY2g&amp\;__tn__=-UK-R&amp\;c[0]=AT3n9ihnR05nVS9ZWv-rV2XAdAN3eptBZ5fhNDcvJHhCLe7C1JhHPaU0SbtXSuleH7YCgdzmRF_TwEKJDgp-gNdpt7henEPDp69Cbto_MNNO633kKEhIvYLBkraFSWhF0W_KzyhC5ZWxFXhjmv1pQ5VZj5GYwPxsSzYefboH1bvAcO6n4JnzTsD7UMRix49I2Cn7eMw" rel="nofollow noopener" role="link" style="cursor: pointer\; text-decoration-line: none\; outline: none\; list-style: none\; border-width: 0px\; border-style: initial\; border-color: initial\; padding: 0px\; margin: 0px\; touch-action: manipulation\; background-color: transparent\; text-align: inherit\; display: inline\; -webkit-tap-highlight-color: transparent\; box-sizing: border-box\; font-family: inherit\;" tabindex="0" target="_blank">https://blitzr.com/event/3249/1252</a></span></div>\n\n<div dir="auto" style="font-family: &quot\;Segoe UI Historic&quot\;\, &quot\;Segoe UI&quot\;\, Helvetica\, Arial\, sans-serif\; color: rgb(5\, 5\, 5)\; font-size: 15px\; white-space: pre-wrap\; background-color: rgb(255\, 255\, 255)\;">Click here for tips on How to Blitz: <span style="font-family: inherit\;"><a class="oajrlxb2 g5ia77u1 qu0x051f esr5mh6w e9989ue4 r7d6kgcz rq0escxv nhd2j8a9 nc684nl6 p7hjln8o kvgmc6g5 cxmmr5t8 oygrvhab hcukyx3x jb3vyjys rz4wbd8a qt6c0cv9 a8nywdso i1ao9s8h esuyzwwr f1sip0of lzcic4wl py34i1dx gpro0wi8" href="https://l.facebook.com/l.php?u=https%3A%2F%2Fblitzr.com%2Fhowtoblitz%3Ffbclid%3DIwAR1K3qoQHOfxaWUUYtc1BxhICW4hSehiVrkICubcdmo8Sb_o5xjF_wkP5GI&amp\;h=AT3fiA8d4wH0Dk2SnDANKggRgRZpkS4ApUWhgvPo1s8vj7JQoaq1hmMdlI7d-0CnofAX-NsrZROtNJY9-rtnphylOQ96E7b0OkEWj0ov9HS_xeXTfWwRFux1s-hyElqlRQ&amp\;__tn__=-UK-R&amp\;c[0]=AT3n9ihnR05nVS9ZWv-rV2XAdAN3eptBZ5fhNDcvJHhCLe7C1JhHPaU0SbtXSuleH7YCgdzmRF_TwEKJDgp-gNdpt7henEPDp69Cbto_MNNO633kKEhIvYLBkraFSWhF0W_KzyhC5ZWxFXhjmv1pQ5VZj5GYwPxsSzYefboH1bvAcO6n4JnzTsD7UMRix49I2Cn7eMw" rel="nofollow noopener" role="link" style="cursor: pointer\; text-decoration-line: none\; outline: none\; list-style: none\; border-width: 0px\; border-style: initial\; border-color: initial\; padding: 0px\; margin: 0px\; touch-action: manipulation\; background-color: transparent\; text-align: inherit\; display: inline\; -webkit-tap-highlight-color: transparent\; box-sizing: border-box\; font-family: inherit\;" tabindex="0" target="_blank">https://blitzr.com/howtoblitz</a></span> Open to everyone &amp\; Free to attend Questions? Contact RP Chamber (707) 584-1415</div>\n
LOCATION:Register Online
UID:e.3588.40
SEQUENCE:3
DTSTAMP:20260425T171741Z
URL:https://windsorchamber-gzcms.preview.gochambermaster.com/events/details/sonoma-county-chamber-of-commerce-blitz-40
END:VEVENT

END:VCALENDAR
