BEGIN:VCALENDAR
VERSION:2.0
PRODID:-//ChamberMaster//Event Calendar 2.0//EN
METHOD:PUBLISH
X-PUBLISHED-TTL:P3D
REFRESH-INTERVAL:P3D
CALSCALE:GREGORIAN
BEGIN:VEVENT
DTSTART:20241013T163000Z
DTEND:20241013T190000Z
X-MICROSOFT-CDO-ALLDAYEVENT:FALSE
SUMMARY:WeAct’s Adopted Road Clean Up in Windsor
DESCRIPTION:Join WeAct (Windsor Earth Action Climate Team) in cleaning up its adopted road on Sunday\, October 13 from 9:30 AM to 12:00 PM. We meet at the corner of Windsor Road and Sanders. Pickers and bags are provided. Bring gloves\, a water bottle\, and wear comfortable closed-toed shoes. This is the best time to pick up trash to keep it from getting into our creeks before the rains start. Check out www.weact4windsor.org for more information.
X-ALT-DESC;FMTTYPE=text/html:Join WeAct (Windsor Earth Action Climate Team) in cleaning up its adopted road on Sunday\, October 13 from 9:30 AM to 12:00 PM. We meet at the corner of Windsor Road and Sanders. Pickers and bags are provided. Bring gloves\, a water bottle\, and wear comfortable closed-toed shoes. This is the best time to pick up trash to keep it from getting into our creeks before the rains start. Check out www.weact4windsor.org for more information.
LOCATION:The corner of Windsor Rd and Sanders
UID:e.3588.1484
SEQUENCE:3
DTSTAMP:20260420T013549Z
URL:https://windsorchamber-gzcms.preview.gochambermaster.com/events/details/weact-s-adopted-road-clean-up-in-windsor-1484
END:VEVENT

END:VCALENDAR
