BEGIN:VCALENDAR
VERSION:2.0
PRODID:-//ChamberMaster//Event Calendar 2.0//EN
METHOD:PUBLISH
X-PUBLISHED-TTL:P3D
REFRESH-INTERVAL:P3D
CALSCALE:GREGORIAN
BEGIN:VEVENT
DTSTART:20210326T010000Z
DTEND:20210326T023000Z
X-MICROSOFT-CDO-ALLDAYEVENT:FALSE
SUMMARY:Windsor Town Council Candidate Forum
DESCRIPTION:PSA FRROM PAT KERRIGAN ABOUT THE TOWN COUNCIL CANDIDATES FORUM\n\nhttps://www.youtube.com/watch?v=YsZ6qza0f1Q\n\nThursday\, March 25th at 6-7:30pm\n\nPre-register: http://bit.ly/wccforum\n\nThe moderator is Pat Kerrigan\, an award-winning broadcast journalist\, and all 5 candidates have accepted the invite to participate. We are using the format created by the League of Women Voters of Sonoma County\, and we are appreciative of their assistance with the forum.\n\nThe candidates are:\n\nOscar Chavez\n\nJulia Donoho\n\nJeffrey Leasure\n\nRosa Reynoza\n\nCody Wilson\n\nPlease send your questions for the candidates to Pat Kerrigan:\n\nTOWCandidatesForum@gmail.com\n\n** Please include your name and address in your email.\n\nThe forum is being conducted purely to inform voters. The Windsor Chamber of Commerce does not endorse candidates.
X-ALT-DESC;FMTTYPE=text/html:<div class="kvgmc6g5 cxmmr5t8 oygrvhab hcukyx3x c1et5uql" style="overflow-wrap: break-word\; margin: 0px\; font-family: &quot\;Segoe UI Historic&quot\;\, &quot\;Segoe UI&quot\;\, Helvetica\, Arial\, sans-serif\; color: rgb(5\, 5\, 5)\; font-size: 15px\; background-color: rgb(255\, 255\, 255)\;">PSA FRROM PAT KERRIGAN ABOUT THE TOWN COUNCIL CANDIDATES FORUM<br />\n<a href="https://www.youtube.com/watch?v=YsZ6qza0f1Q">https://www.youtube.com/watch?v=YsZ6qza0f1Q</a><br />\nThursday\, March 25th at 6-7:30pm<br />\nPre-register:&nbsp\;<a class="oajrlxb2 g5ia77u1 qu0x051f esr5mh6w e9989ue4 r7d6kgcz rq0escxv nhd2j8a9 nc684nl6 p7hjln8o kvgmc6g5 cxmmr5t8 oygrvhab hcukyx3x jb3vyjys rz4wbd8a qt6c0cv9 a8nywdso i1ao9s8h esuyzwwr f1sip0of lzcic4wl py34i1dx gpro0wi8" fg_scanned="1" href="https://bit.ly/wccforum?fbclid=IwAR3hbz13NcIZMShNjZSjunCTw09aQfzWy94Xw5gDt0CAAhvDR9vpUyv8sVg" rel="nofollow noopener" role="link" style="cursor: pointer\; text-decoration-line: none\; outline: none\; list-style: none\; border-width: 0px\; border-style: initial\; border-color: initial\; padding: 0px\; margin: 0px\; touch-action: manipulation\; background-color: transparent\; text-align: inherit\; display: inline\; -webkit-tap-highlight-color: transparent\; box-sizing: border-box\; font-family: inherit\;" tabindex="0" target="_blank">http://bit.ly/wccforum</a></div>\n\n<div class="o9v6fnle cxmmr5t8 oygrvhab hcukyx3x c1et5uql" style="overflow-wrap: break-word\; margin: 0.5em 0px 0px\; font-family: &quot\;Segoe UI Historic&quot\;\, &quot\;Segoe UI&quot\;\, Helvetica\, Arial\, sans-serif\; color: rgb(5\, 5\, 5)\; font-size: 15px\; background-color: rgb(255\, 255\, 255)\;">The moderator is Pat Kerrigan\, an award-winning broadcast journalist\, and all 5 candidates have accepted the invite to participate. We are using the format created by the League of Women Voters of Sonoma County\, and we are appreciative of their assistance with the forum.</div>\n\n<div class="o9v6fnle cxmmr5t8 oygrvhab hcukyx3x c1et5uql" style="overflow-wrap: break-word\; margin: 0.5em 0px 0px\; font-family: &quot\;Segoe UI Historic&quot\;\, &quot\;Segoe UI&quot\;\, Helvetica\, Arial\, sans-serif\; color: rgb(5\, 5\, 5)\; font-size: 15px\; background-color: rgb(255\, 255\, 255)\;">The candidates are:<br />\nOscar Chavez<br />\nJulia Donoho<br />\nJeffrey Leasure<br />\nRosa Reynoza<br />\nCody Wilson</div>\n\n<div class="o9v6fnle cxmmr5t8 oygrvhab hcukyx3x c1et5uql" style="overflow-wrap: break-word\; margin: 0.5em 0px 0px\; font-family: &quot\;Segoe UI Historic&quot\;\, &quot\;Segoe UI&quot\;\, Helvetica\, Arial\, sans-serif\; color: rgb(5\, 5\, 5)\; font-size: 15px\; background-color: rgb(255\, 255\, 255)\;">Please send your questions for the candidates to Pat Kerrigan:<br />\nTOWCandidatesForum@gmail.com<br />\n** Please include your name and address in your email.</div>\n\n<div class="o9v6fnle cxmmr5t8 oygrvhab hcukyx3x c1et5uql" style="overflow-wrap: break-word\; margin: 0.5em 0px 0px\; font-family: &quot\;Segoe UI Historic&quot\;\, &quot\;Segoe UI&quot\;\, Helvetica\, Arial\, sans-serif\; color: rgb(5\, 5\, 5)\; font-size: 15px\; background-color: rgb(255\, 255\, 255)\;">The forum is being conducted purely to inform voters. The Windsor Chamber of Commerce does not endorse candidates.</div>\n
LOCATION:
UID:e.3588.39
SEQUENCE:3
DTSTAMP:20260425T142621Z
URL:https://windsorchamber-gzcms.preview.gochambermaster.com/events/details/windsor-town-council-candidate-forum-39
END:VEVENT

END:VCALENDAR
