BEGIN:VCALENDAR
VERSION:2.0
PRODID:-//ChamberMaster//Event Calendar 2.0//EN
METHOD:PUBLISH
X-PUBLISHED-TTL:P3D
REFRESH-INTERVAL:P3D
CALSCALE:GREGORIAN
BEGIN:VEVENT
DTSTART:20230606T000000Z
DTEND:20230606T020000Z
X-MICROSOFT-CDO-ALLDAYEVENT:FALSE
SUMMARY:WOW Professionals at Craftwork June 2023
DESCRIPTION:CraftWork will be hosting the June WOW.  If you haven't had a chance to visit this incredible new coworking and event space located in downtown Healdsburg\, now is your chance!  It has saved many small business' owners from computer outages\, noisy construction and has provided conference rooms for important meetings.  Voted Best of the Bohemian (Best of the North Bay spanning Napa and Sonoma counties) two of the last three years. You won't want to miss the opportunity to experience this innovative new workspace\, learn about how it operates and how you can use it for a range of business and entertainment functions.\n\n\n\nStuhlmuller Vineyards from Alexander Valley will be serving their delicious wines and Costeaux will be proving some delectable bites.
X-ALT-DESC;FMTTYPE=text/html:<span style="font-size:20px\;">CraftWork will be hosting the June WOW.&nbsp\; If you haven&rsquo\;t had a chance to visit this incredible new coworking and event space located in downtown Healdsburg\, now is your chance!&nbsp\; It has saved many small business&rsquo\; owners from computer outages\, noisy construction and has provided conference rooms for important meetings. &nbsp\;Voted <strong><span style="font-family:calibri\,sans-serif\;">Best of the Bohemian</span></strong> (Best of the North Bay spanning Napa and Sonoma counties) two of the last three years. You won&rsquo\;t want to miss the opportunity to experience this innovative new workspace\, learn about how it operates and how you can use it for a range of business and entertainment functions.<br />\n<br />\n<span style="color:#212121\;">Stuhlmuller Vineyards from Alexander Valley will be serving their delicious wines and Costeaux will be proving some delectable bites.</span></span>
LOCATION:445 Center Street\, Healdsburg
UID:e.3588.548
SEQUENCE:3
DTSTAMP:20260421T201650Z
URL:https://windsorchamber-gzcms.preview.gochambermaster.com/events/details/wow-professionals-at-craftwork-june-2023-548
END:VEVENT

END:VCALENDAR
