BEGIN:VCALENDAR
VERSION:2.0
PRODID:-//ChamberMaster//Event Calendar 2.0//EN
METHOD:PUBLISH
X-PUBLISHED-TTL:P3D
REFRESH-INTERVAL:P3D
CALSCALE:GREGORIAN
BEGIN:VEVENT
DTSTART:20231003T000000Z
DTEND:20231003T020000Z
X-MICROSOFT-CDO-ALLDAYEVENT:FALSE
SUMMARY:WOW Professionals at PDI (Strike Against Tooth Decay) October 2023
DESCRIPTION:Join us for the next WOW networking meeting!\n\n\n\nOur host is Tara Good-Young - PDI Surgery Center\n\n\n\nWe will be supporting a great cause by coming out and putting on our bowling shoes\, striking against tooth decay!! \n\n\n\nCelebrate community with a fun & friendly bowling competition. Enjoy a round of mini golf fun\, silent auction\, social connections\, PLUS the common goal of making a strike against tooth decay\, the #1 preventable childhood disease.\n\n\n\nPDI is a nonprofit organization whose mission is to deliver safe\, high quality\, and specialized dental treatment to underserved youth and promote oral health through education to communities of Northern California.\n\nPDI Surgery Center's dentists and anesthesiologists are experienced in hospital dentistry. They are dedicated to safely treating children who suffer from severe tooth decay.\n\n\n\n\n\nEnjoy some friendly competition with your fellow participants. If you are not into bowling\, that's okay too\; you can still join the fun! We will have delicious beer and pizza for all to enjoy.\n\n\n\nWe have chosen a fantastic Rosie the Riveter theme\, and cant wait to see your Rosie!\n\n\n\n5:30PM Check-in and practice play begins   Tournament play begins at 6:\n\n\n\nWOW - Women of Windsor is a terrific coalition of women entrepreneurs and representatives seeking to advance themselves and support each other. Join with your fellow professionals and be empowered.\n\n\n\n***PLEASE INDICATE IN THE COMMENTS IF YOU WISH TO BOWL\n\n***We will be collecting $20 at the door from members and non members. This will cover food & bowling at the event and all proceeds will be donated to PDI.
X-ALT-DESC;FMTTYPE=text/html:<strong><span style="font-size: 12pt\;">Join us for the next WOW networking meeting!</span></strong><br />\n<br />\n<span style="color:#555555\;"><span style="font-size:12.0pt\;">Our host is Tara Good-Young - PDI Surgery Center<br />\n<br />\nWe will be supporting a great cause by coming out and putting on our bowling shoes\, striking against tooth decay!!&nbsp\;<br />\n<br />\nCelebrate community with a fun &amp\; friendly bowling competition. Enjoy a round of mini golf fun\, silent auction\, social connections\, PLUS the common goal of making a strike against tooth decay\, the #1 preventable childhood disease.<br />\n<br />\nPDI is a nonprofit organization whose mission is to&nbsp\;</span></span><span style="background:white\;"><span style="color:#333333\;"><span style="font-size:12.0pt\;">deliver safe\, high quality\, and specialized dental treatment to underserved youth and promote oral health through education to communities of Northern California.</span></span></span><br />\n<span style="color:#333333\;"><span style="font-size:12.0pt\;">PDI Surgery Center&#39\;s dentists and anesthesiologists are experienced in hospital dentistry. They are dedicated to safely treating children who suffer from severe tooth decay.</span></span><br />\n<br />\n<br />\n<span style="font-size:16px\;">Enjoy some friendly competition with your fellow participants. If you are not into bowling\, that&#39\;s okay too\; you can still join the fun! We will have delicious beer and pizza for all to enjoy.</span><br />\n<br />\n<span style="font-size:16px\;"><em>We have chosen a fantastic Rosie the Riveter theme\, and cant wait to see your Rosie!</em></span><br />\n<br />\n<span style="background:white\;"><span style="color:#555555\;"><span style="font-size:12.0pt\;">5:30PM Check-in and practice play begins &bull\; Tournament play begins at 6:</span></span></span><br />\n<br />\n<span style="color:#555555\;"><span style="font-size:12.0pt\;"><strong><span style="background:white\;">WOW - Women of Windsor&nbsp\;</span></strong><span style="background:white\;">is a terrific coalition of women entrepreneurs and representatives seeking to advance themselves and support each other. Join with your fellow professionals and be empowered.<br />\n<br />\n<strong>***PLEASE INDICATE IN THE COMMENTS IF YOU WISH TO BOWL</strong></span></span></span><br />\n<span style="color:#FF0000\;">***We will be collecting $20 at the door from members and non members. This will cover food &amp\; bowling at the event and all proceeds will be donated to PDI.</span>
LOCATION:Windsor Bowling Center 8801 Conde Ln\, Windsor\, CA
UID:e.3588.633
SEQUENCE:3
DTSTAMP:20260421T030459Z
URL:https://windsorchamber-gzcms.preview.gochambermaster.com/events/details/wow-professionals-at-pdi-strike-against-tooth-decay-october-2023-633
END:VEVENT

END:VCALENDAR
